BEGIN:VCALENDAR
VERSION:2.0
PRODID:-//wp-events-plugin.com//7.2.3.1//EN
BEGIN:VEVENT
UID:27@spielleute-kleinroehrsdorf.de
DTSTART;TZID=Africa/Abidjan;VALUE=DATE:20251107
DTEND;TZID=Africa/Abidjan;VALUE=DATE:20251108
DTSTAMP:20250320T120234Z
URL:https://www.spielleute-kleinroehrsdorf.de/events/lampionumzug-kindersp
 iel-e-v-dresden/
SUMMARY:Lampionumzug Kinderspiel e.V. Dresden
DESCRIPTION:
END:VEVENT
BEGIN:VTIMEZONE
TZID:Africa/Abidjan
X-LIC-LOCATION:Africa/Abidjan
BEGIN:STANDARD
DTSTART:20241107T000000
TZOFFSETFROM:+0000
TZOFFSETTO:+0000
TZNAME:GMT
END:STANDARD
END:VTIMEZONE
END:VCALENDAR